Package: epigraHMM Version: 1.19.0 Maintainer: Pedro Baldoni MaintainerEmail: pedrobaldoni at gmail.com git_url: https://git.bioconductor.org/packages/epigraHMM git_branch: devel git_last_commit: af5be02 git_last_commit_date: 2025-10-29 11:09:46 -0400 (Wed, 29 Oct 2025)