Package: epigenomix Version: 1.51.0 Command: /home/biocbuild/bbs-3.23-bioc/R/bin/R CMD INSTALL epigenomix StartedAt: 2025-11-05 15:43:41 -0500 (Wed, 05 Nov 2025) EndedAt: 2025-11-05 15:44:21 -0500 (Wed, 05 Nov 2025) EllapsedTime: 40.0 seconds RetCode: 0 Status: OK