Package: epigenomix Version: 1.51.0 Command: /home/biocbuild/bbs-3.23-bioc/R/bin/R CMD build --keep-empty-dirs --no-resave-data epigenomix StartedAt: 2025-11-05 17:33:10 -0500 (Wed, 05 Nov 2025) EndedAt: 2025-11-05 17:34:32 -0500 (Wed, 05 Nov 2025) EllapsedTime: 82.1 seconds RetCode: 0 Status: OK PackageFile: epigenomix_1.51.0.tar.gz PackageFileSize: 426.5 KiB