Package: epigenomix Version: 1.49.0 Command: /Library/Frameworks/R.framework/Resources/bin/R CMD build --keep-empty-dirs --no-resave-data epigenomix StartedAt: 2025-10-17 17:06:01 -0400 (Fri, 17 Oct 2025) EndedAt: 2025-10-17 17:07:58 -0400 (Fri, 17 Oct 2025) EllapsedTime: 117.6 seconds RetCode: 0 Status: OK PackageFile: epigenomix_1.49.0.tar.gz PackageFileSize: 426 KiB