Package: epigenomix Version: 1.49.0 Command: rm -rf epigenomix.buildbin-libdir && mkdir epigenomix.buildbin-libdir && /Users/biocbuild/BBS/utils/build-universal.sh epigenomix_1.49.0.tar.gz /Library/Frameworks/R.framework/Resources/bin/R epigenomix.buildbin-libdir StartedAt: 2025-10-17 03:49:17 -0400 (Fri, 17 Oct 2025) EndedAt: 2025-10-17 03:50:16 -0400 (Fri, 17 Oct 2025) EllapsedTime: 58.7 seconds RetCode: 0 Status: OK PackageFile: epigenomix_1.49.0.tgz PackageFileSize: 966.7 KiB