Package: epigenomix Version: 1.49.0 Command: /Library/Frameworks/R.framework/Resources/bin/R CMD INSTALL epigenomix StartedAt: 2025-09-30 15:19:56 -0400 (Tue, 30 Sep 2025) EndedAt: 2025-09-30 15:20:11 -0400 (Tue, 30 Sep 2025) EllapsedTime: 15.2 seconds RetCode: 0 Status: OK