Package: epigenomix Version: 1.49.0 Command: /Library/Frameworks/R.framework/Resources/bin/R CMD build --keep-empty-dirs --no-resave-data epigenomix StartedAt: 2025-09-30 16:19:27 -0400 (Tue, 30 Sep 2025) EndedAt: 2025-09-30 16:20:00 -0400 (Tue, 30 Sep 2025) EllapsedTime: 32.4 seconds RetCode: 0 Status: OK PackageFile: epigenomix_1.49.0.tar.gz PackageFileSize: 426.6 KiB