Package: epigenomix Version: 1.49.0 Command: rm -rf epigenomix.buildbin-libdir && mkdir epigenomix.buildbin-libdir && /Users/biocbuild/BBS/utils/build-universal.sh epigenomix_1.49.0.tar.gz /Library/Frameworks/R.framework/Resources/bin/R epigenomix.buildbin-libdir StartedAt: 2025-09-30 22:38:58 -0400 (Tue, 30 Sep 2025) EndedAt: 2025-09-30 22:39:15 -0400 (Tue, 30 Sep 2025) EllapsedTime: 16.3 seconds RetCode: 0 Status: OK PackageFile: epigenomix_1.49.0.tgz PackageFileSize: 968.9 KiB