Package: epidecodeR Version: 1.19.0 Command: /home/biocbuild/bbs-3.23-bioc/R/bin/R CMD INSTALL epidecodeR StartedAt: 2025-10-31 15:35:30 -0400 (Fri, 31 Oct 2025) EndedAt: 2025-10-31 15:36:03 -0400 (Fri, 31 Oct 2025) EllapsedTime: 32.7 seconds RetCode: 0 Status: OK