Package: epialleleR Version: 1.19.0 Command: /home/biocbuild/bbs-3.23-bioc/R/bin/R CMD build --keep-empty-dirs --no-resave-data epialleleR StartedAt: 2025-11-20 17:30:03 -0500 (Thu, 20 Nov 2025) EndedAt: 2025-11-20 17:31:51 -0500 (Thu, 20 Nov 2025) EllapsedTime: 108.1 seconds RetCode: 0 Status: OK PackageFile: epialleleR_1.19.0.tar.gz PackageFileSize: 3.597 MiB