Package: epialleleR Version: 1.17.1 Command: /Library/Frameworks/R.framework/Resources/bin/R CMD INSTALL epialleleR StartedAt: 2025-10-14 15:33:05 -0400 (Tue, 14 Oct 2025) EndedAt: 2025-10-14 15:34:20 -0400 (Tue, 14 Oct 2025) EllapsedTime: 74.4 seconds RetCode: 0 Status: OK