Package: epialleleR Version: 1.17.1 Command: rm -rf epialleleR.buildbin-libdir && mkdir epialleleR.buildbin-libdir && /Users/biocbuild/BBS/utils/build-universal.sh epialleleR_1.17.1.tar.gz /Library/Frameworks/R.framework/Resources/bin/R epialleleR.buildbin-libdir StartedAt: 2025-10-15 02:43:09 -0400 (Wed, 15 Oct 2025) EndedAt: 2025-10-15 02:44:32 -0400 (Wed, 15 Oct 2025) EllapsedTime: 83.4 seconds RetCode: 0 Status: OK PackageFile: epialleleR_1.17.1.tgz PackageFileSize: 4.39 MiB