Package: ensembldb Version: 2.35.0 Command: /home/biocbuild/bbs-3.23-bioc/R/bin/R CMD INSTALL ensembldb StartedAt: 2025-11-20 15:39:20 -0500 (Thu, 20 Nov 2025) EndedAt: 2025-11-20 15:40:02 -0500 (Thu, 20 Nov 2025) EllapsedTime: 41.7 seconds RetCode: 0 Status: OK