Package: ensembldb Version: 2.35.0 Command: /home/biocbuild/bbs-3.23-bioc/R/bin/R CMD check --install=check:ensembldb.install-out.txt --library=/home/biocbuild/bbs-3.23-bioc/R/site-library --timings ensembldb_2.35.0.tar.gz StartedAt: 2025-11-20 23:20:25 -0500 (Thu, 20 Nov 2025) EndedAt: 2025-11-20 23:39:39 -0500 (Thu, 20 Nov 2025) EllapsedTime: 1154.6 seconds RetCode: 0 Status: OK CheckDir: ensembldb.Rcheck Warnings: 0