Package: ensembldb Version: 2.35.0 Command: /home/biocbuild/bbs-3.23-bioc/R/bin/R CMD build --keep-empty-dirs --no-resave-data ensembldb StartedAt: 2025-11-20 17:30:01 -0500 (Thu, 20 Nov 2025) EndedAt: 2025-11-20 17:31:51 -0500 (Thu, 20 Nov 2025) EllapsedTime: 110.2 seconds RetCode: 0 Status: OK PackageFile: ensembldb_2.35.0.tar.gz PackageFileSize: 3.368 MiB