Package: ensembldb Version: 2.33.2 Command: /Library/Frameworks/R.framework/Resources/bin/R CMD check --install=check:ensembldb.install-out.txt --library=/Library/Frameworks/R.framework/Resources/library --no-vignettes --timings ensembldb_2.33.2.tar.gz StartedAt: 2025-10-21 19:38:24 -0400 (Tue, 21 Oct 2025) EndedAt: 2025-10-21 19:44:51 -0400 (Tue, 21 Oct 2025) EllapsedTime: 386.5 seconds RetCode: 0 Status: OK CheckDir: ensembldb.Rcheck Warnings: 0