Package: enrichplot Version: 1.31.0 Command: /home/biocbuild/bbs-3.23-bioc/R/bin/R CMD INSTALL enrichplot StartedAt: 2025-11-06 15:45:36 -0500 (Thu, 06 Nov 2025) EndedAt: 2025-11-06 15:46:00 -0500 (Thu, 06 Nov 2025) EllapsedTime: 24.1 seconds RetCode: 0 Status: OK