Package: enrichplot Version: 1.31.0 Command: /home/biocbuild/bbs-3.23-bioc/R/bin/R CMD check --install=check:enrichplot.install-out.txt --library=/home/biocbuild/bbs-3.23-bioc/R/site-library --timings enrichplot_1.31.0.tar.gz StartedAt: 2025-11-06 23:04:53 -0500 (Thu, 06 Nov 2025) EndedAt: 2025-11-06 23:07:36 -0500 (Thu, 06 Nov 2025) EllapsedTime: 163.2 seconds RetCode: 0 Status: OK CheckDir: enrichplot.Rcheck Warnings: 0