Package: enrichplot Version: 1.29.2 Command: /Library/Frameworks/R.framework/Resources/bin/R CMD check --install=check:enrichplot.install-out.txt --library=/Library/Frameworks/R.framework/Resources/library --no-vignettes --timings enrichplot_1.29.2.tar.gz StartedAt: 2025-10-13 19:21:22 -0400 (Mon, 13 Oct 2025) EndedAt: 2025-10-13 19:22:33 -0400 (Mon, 13 Oct 2025) EllapsedTime: 70.8 seconds RetCode: 0 Status: WARNINGS CheckDir: enrichplot.Rcheck Warnings: 1