Package: enrichViewNet Version: 1.9.0 Command: /home/biocbuild/bbs-3.23-bioc/R/bin/R CMD INSTALL enrichViewNet StartedAt: 2025-11-20 15:46:32 -0500 (Thu, 20 Nov 2025) EndedAt: 2025-11-20 15:46:57 -0500 (Thu, 20 Nov 2025) EllapsedTime: 24.8 seconds RetCode: 0 Status: OK