Package: enrichViewNet Version: 1.9.0 Command: /home/biocbuild/bbs-3.23-bioc/R/bin/R CMD build --keep-empty-dirs --no-resave-data enrichViewNet StartedAt: 2025-11-20 17:29:59 -0500 (Thu, 20 Nov 2025) EndedAt: 2025-11-20 17:31:01 -0500 (Thu, 20 Nov 2025) EllapsedTime: 62.1 seconds RetCode: 0 Status: OK PackageFile: enrichViewNet_1.9.0.tar.gz PackageFileSize: 5.064 MiB