Package: enrichViewNet Version: 1.7.3 Command: /Library/Frameworks/R.framework/Resources/bin/R CMD check --install=check:enrichViewNet.install-out.txt --library=/Library/Frameworks/R.framework/Resources/library --no-vignettes --timings enrichViewNet_1.7.3.tar.gz StartedAt: 2025-10-24 19:38:01 -0400 (Fri, 24 Oct 2025) EndedAt: 2025-10-24 19:39:46 -0400 (Fri, 24 Oct 2025) EllapsedTime: 105.2 seconds RetCode: 0 Status: OK CheckDir: enrichViewNet.Rcheck Warnings: 0