Package: enhancerHomologSearch Version: 1.17.0 Command: /home/biocbuild/bbs-3.23-bioc/R/bin/R CMD INSTALL enhancerHomologSearch StartedAt: 2025-11-20 15:53:35 -0500 (Thu, 20 Nov 2025) EndedAt: 2025-11-20 15:58:03 -0500 (Thu, 20 Nov 2025) EllapsedTime: 267.9 seconds RetCode: 0 Status: OK