Package: enhancerHomologSearch Version: 1.15.2 Command: /Library/Frameworks/R.framework/Resources/bin/R CMD INSTALL enhancerHomologSearch StartedAt: 2025-10-24 15:54:19 -0400 (Fri, 24 Oct 2025) EndedAt: 2025-10-24 15:59:47 -0400 (Fri, 24 Oct 2025) EllapsedTime: 328.1 seconds RetCode: 0 Status: OK