Package: enhancerHomologSearch Version: 1.15.2 Command: /Library/Frameworks/R.framework/Resources/bin/R CMD build --keep-empty-dirs --no-resave-data enhancerHomologSearch StartedAt: 2025-10-23 16:51:26 -0400 (Thu, 23 Oct 2025) EndedAt: 2025-10-23 17:04:11 -0400 (Thu, 23 Oct 2025) EllapsedTime: 764.8 seconds RetCode: 0 Status: OK PackageFile: enhancerHomologSearch_1.15.2.tar.gz PackageFileSize: 1.042 MiB