Package: enhancerHomologSearch Version: 1.15.2 Command: rm -rf enhancerHomologSearch.buildbin-libdir && mkdir enhancerHomologSearch.buildbin-libdir && /Users/biocbuild/BBS/utils/build-universal.sh enhancerHomologSearch_1.15.2.tar.gz /Library/Frameworks/R.framework/Resources/bin/R enhancerHomologSearch.buildbin-libdir StartedAt: 2025-10-25 01:38:56 -0400 (Sat, 25 Oct 2025) EndedAt: 2025-10-25 01:44:45 -0400 (Sat, 25 Oct 2025) EllapsedTime: 349.3 seconds RetCode: 0 Status: OK PackageFile: enhancerHomologSearch_1.15.2.tgz PackageFileSize: 1.91 MiB