Package: enhancerHomologSearch Version: 1.15.1 Command: /Library/Frameworks/R.framework/Resources/bin/R CMD INSTALL enhancerHomologSearch StartedAt: 2025-10-10 15:30:06 -0400 (Fri, 10 Oct 2025) EndedAt: 2025-10-10 15:31:31 -0400 (Fri, 10 Oct 2025) EllapsedTime: 85.1 seconds RetCode: 0 Status: OK