Package: enhancerHomologSearch Version: 1.15.1 Command: /Library/Frameworks/R.framework/Resources/bin/R CMD build --keep-empty-dirs --no-resave-data enhancerHomologSearch StartedAt: 2025-10-10 16:19:20 -0400 (Fri, 10 Oct 2025) EndedAt: 2025-10-10 16:24:04 -0400 (Fri, 10 Oct 2025) EllapsedTime: 284.0 seconds RetCode: 0 Status: OK PackageFile: enhancerHomologSearch_1.15.1.tar.gz PackageFileSize: 1.043 MiB