Package: enhancerHomologSearch Version: 1.15.1 Command: rm -rf enhancerHomologSearch.buildbin-libdir && mkdir enhancerHomologSearch.buildbin-libdir && /Users/biocbuild/BBS/utils/build-universal.sh enhancerHomologSearch_1.15.1.tar.gz /Library/Frameworks/R.framework/Resources/bin/R enhancerHomologSearch.buildbin-libdir StartedAt: 2025-10-10 22:40:03 -0400 (Fri, 10 Oct 2025) EndedAt: 2025-10-10 22:41:35 -0400 (Fri, 10 Oct 2025) EllapsedTime: 92.0 seconds RetCode: 0 Status: OK PackageFile: enhancerHomologSearch_1.15.1.tgz PackageFileSize: 1.849 MiB