Package: enhancerHomologSearch Version: 1.15.2 Maintainer: Jianhong Ou MaintainerEmail: jou at morgridge.org git_url: https://git.bioconductor.org/packages/enhancerHomologSearch git_branch: devel git_last_commit: 714767d git_last_commit_date: 2025-10-22 12:46:44 -0400 (Wed, 22 Oct 2025)