Package: eisaR Version: 1.23.1 Command: /home/biocbuild/bbs-3.23-bioc/R/bin/R CMD build --keep-empty-dirs --no-resave-data eisaR StartedAt: 2025-11-05 17:30:32 -0500 (Wed, 05 Nov 2025) EndedAt: 2025-11-05 17:32:00 -0500 (Wed, 05 Nov 2025) EllapsedTime: 88.1 seconds RetCode: 0 Status: OK PackageFile: eisaR_1.23.1.tar.gz PackageFileSize: 1.906 MiB