Package: eisaR Version: 1.21.1 Command: /Library/Frameworks/R.framework/Resources/bin/R CMD INSTALL eisaR StartedAt: 2025-10-15 15:25:40 -0400 (Wed, 15 Oct 2025) EndedAt: 2025-10-15 15:26:09 -0400 (Wed, 15 Oct 2025) EllapsedTime: 28.9 seconds RetCode: 0 Status: OK