Package: eisaR Version: 1.21.1 Command: /Library/Frameworks/R.framework/Resources/bin/R CMD build --keep-empty-dirs --no-resave-data eisaR StartedAt: 2025-10-14 17:01:09 -0400 (Tue, 14 Oct 2025) EndedAt: 2025-10-14 17:02:57 -0400 (Tue, 14 Oct 2025) EllapsedTime: 108.5 seconds RetCode: 0 Status: OK PackageFile: eisaR_1.21.1.tar.gz PackageFileSize: 1.719 MiB