Package: eisaR Version: 1.21.1 Command: rm -rf eisaR.buildbin-libdir && mkdir eisaR.buildbin-libdir && /Users/biocbuild/BBS/utils/build-universal.sh eisaR_1.21.1.tar.gz /Library/Frameworks/R.framework/Resources/bin/R eisaR.buildbin-libdir StartedAt: 2025-10-15 02:42:52 -0400 (Wed, 15 Oct 2025) EndedAt: 2025-10-15 02:43:24 -0400 (Wed, 15 Oct 2025) EllapsedTime: 32.6 seconds RetCode: 0 Status: OK PackageFile: eisaR_1.21.1.tgz PackageFileSize: 1.748 MiB