Package: eiR Version: 1.49.0 Command: /home/biocbuild/R/R/bin/R CMD INSTALL eiR StartedAt: 2025-10-16 21:23:49 -0000 (Thu, 16 Oct 2025) EndedAt: 2025-10-16 21:24:02 -0000 (Thu, 16 Oct 2025) EllapsedTime: 12.8 seconds RetCode: 0 Status: OK