Package: eiR Version: 1.49.0 Command: /Library/Frameworks/R.framework/Resources/bin/R CMD INSTALL eiR StartedAt: 2025-10-12 15:15:22 -0400 (Sun, 12 Oct 2025) EndedAt: 2025-10-12 15:15:42 -0400 (Sun, 12 Oct 2025) EllapsedTime: 19.8 seconds RetCode: 0 Status: OK