Package: eds Version: 1.11.0 Command: /home/biocbuild/bbs-3.22-bioc/R/bin/R CMD INSTALL eds StartedAt: 2025-10-08 15:16:15 -0400 (Wed, 08 Oct 2025) EndedAt: 2025-10-08 15:16:26 -0400 (Wed, 08 Oct 2025) EllapsedTime: 11.0 seconds RetCode: 0 Status: OK