Package: edgeR Version: 4.7.6 Command: /home/biocbuild/R/R/bin/R CMD INSTALL edgeR StartedAt: 2025-10-20 20:10:13 -0000 (Mon, 20 Oct 2025) EndedAt: 2025-10-20 20:10:51 -0000 (Mon, 20 Oct 2025) EllapsedTime: 37.9 seconds RetCode: 0 Status: OK