Package: edgeR Version: 4.7.6 Command: /home/biocbuild/R/R/bin/R CMD build --keep-empty-dirs --no-resave-data edgeR StartedAt: 2025-10-20 23:33:17 -0000 (Mon, 20 Oct 2025) EndedAt: 2025-10-20 23:33:45 -0000 (Mon, 20 Oct 2025) EllapsedTime: 28.0 seconds RetCode: 0 Status: OK PackageFile: edgeR_4.7.6.tar.gz PackageFileSize: 2.944 MiB