Package: edgeR Version: 4.9.0 Command: /home/biocbuild/bbs-3.23-bioc/R/bin/R CMD build --keep-empty-dirs --no-resave-data edgeR StartedAt: 2025-11-03 17:22:04 -0500 (Mon, 03 Nov 2025) EndedAt: 2025-11-03 17:22:25 -0500 (Mon, 03 Nov 2025) EllapsedTime: 21.0 seconds RetCode: 0 Status: OK PackageFile: edgeR_4.9.0.tar.gz PackageFileSize: 2.92 MiB