Package: edgeR Version: 4.7.5 Command: /Library/Frameworks/R.framework/Resources/bin/R CMD INSTALL edgeR StartedAt: 2025-10-03 15:05:01 -0400 (Fri, 03 Oct 2025) EndedAt: 2025-10-03 15:05:42 -0400 (Fri, 03 Oct 2025) EllapsedTime: 40.6 seconds RetCode: 0 Status: OK