Package: edgeR Version: 4.7.5 Command: /Library/Frameworks/R.framework/Resources/bin/R CMD build --keep-empty-dirs --no-resave-data edgeR StartedAt: 2025-10-03 16:53:46 -0400 (Fri, 03 Oct 2025) EndedAt: 2025-10-03 16:54:19 -0400 (Fri, 03 Oct 2025) EllapsedTime: 33.3 seconds RetCode: 0 Status: OK PackageFile: edgeR_4.7.5.tar.gz PackageFileSize: 3.458 MiB