Package: edgeR Version: 4.7.5 Command: rm -rf edgeR.buildbin-libdir && mkdir edgeR.buildbin-libdir && /Users/biocbuild/BBS/utils/build-universal.sh edgeR_4.7.5.tar.gz /Library/Frameworks/R.framework/Resources/bin/R edgeR.buildbin-libdir StartedAt: 2025-10-04 02:03:47 -0400 (Sat, 04 Oct 2025) EndedAt: 2025-10-04 02:04:14 -0400 (Sat, 04 Oct 2025) EllapsedTime: 26.7 seconds RetCode: 0 Status: OK PackageFile: edgeR_4.7.5.tgz PackageFileSize: 2.945 MiB