Package: edge Version: 2.41.0 Command: /Library/Frameworks/R.framework/Resources/bin/R CMD INSTALL edge StartedAt: 2025-10-24 15:35:26 -0400 (Fri, 24 Oct 2025) EndedAt: 2025-10-24 15:36:03 -0400 (Fri, 24 Oct 2025) EllapsedTime: 36.7 seconds RetCode: 0 Status: OK