Package: edge Version: 2.41.0 Command: /Library/Frameworks/R.framework/Resources/bin/R CMD build --keep-empty-dirs --no-resave-data edge StartedAt: 2025-10-24 16:57:50 -0400 (Fri, 24 Oct 2025) EndedAt: 2025-10-24 16:59:13 -0400 (Fri, 24 Oct 2025) EllapsedTime: 83.4 seconds RetCode: 0 Status: OK PackageFile: edge_2.41.0.tar.gz PackageFileSize: 1002 KiB