Package: edge Version: 2.41.0 Command: rm -rf edge.buildbin-libdir && mkdir edge.buildbin-libdir && /Users/biocbuild/BBS/utils/build-universal.sh edge_2.41.0.tar.gz /Library/Frameworks/R.framework/Resources/bin/R edge.buildbin-libdir StartedAt: 2025-10-25 01:38:40 -0400 (Sat, 25 Oct 2025) EndedAt: 2025-10-25 01:39:20 -0400 (Sat, 25 Oct 2025) EllapsedTime: 40.5 seconds RetCode: 0 Status: OK PackageFile: edge_2.41.0.tgz PackageFileSize: 1.574 MiB