Package: edge Version: 2.41.0 Command: /Library/Frameworks/R.framework/Resources/bin/R CMD INSTALL edge StartedAt: 2025-10-05 15:09:51 -0400 (Sun, 05 Oct 2025) EndedAt: 2025-10-05 15:10:02 -0400 (Sun, 05 Oct 2025) EllapsedTime: 10.7 seconds RetCode: 0 Status: OK