Package: edge Version: 2.41.0 Command: /Library/Frameworks/R.framework/Resources/bin/R CMD build --keep-empty-dirs --no-resave-data edge StartedAt: 2025-10-03 16:17:03 -0400 (Fri, 03 Oct 2025) EndedAt: 2025-10-03 16:17:29 -0400 (Fri, 03 Oct 2025) EllapsedTime: 26.3 seconds RetCode: 0 Status: OK PackageFile: edge_2.41.0.tar.gz PackageFileSize: 1006 KiB