Package: ecolitk Version: 1.83.0 Command: /home/biocbuild/bbs-3.23-bioc/R/bin/R CMD INSTALL ecolitk StartedAt: 2025-11-23 15:13:22 -0500 (Sun, 23 Nov 2025) EndedAt: 2025-11-23 15:13:26 -0500 (Sun, 23 Nov 2025) EllapsedTime: 3.2 seconds RetCode: 0 Status: OK