Package: ecolitk Version: 1.83.0 Command: /home/biocbuild/bbs-3.23-bioc/R/bin/R CMD build --keep-empty-dirs --no-resave-data ecolitk StartedAt: 2025-11-23 17:26:58 -0500 (Sun, 23 Nov 2025) EndedAt: 2025-11-23 17:27:14 -0500 (Sun, 23 Nov 2025) EllapsedTime: 16.0 seconds RetCode: 0 Status: OK PackageFile: ecolitk_1.83.0.tar.gz PackageFileSize: 1.829 MiB